Package: DeeDeeExperiment Version: 1.0.0 Command: /Library/Frameworks/R.framework/Resources/bin/R CMD build --keep-empty-dirs --no-resave-data DeeDeeExperiment StartedAt: 2025-11-04 16:08:46 -0500 (Tue, 04 Nov 2025) EndedAt: 2025-11-04 16:09:11 -0500 (Tue, 04 Nov 2025) EllapsedTime: 25.3 seconds RetCode: 0 Status: OK PackageFile: DeeDeeExperiment_1.0.0.tar.gz PackageFileSize: 4.503 MiB