Package: DeeDeeExperiment Version: 1.0.0 Command: /Library/Frameworks/R.framework/Resources/bin/R CMD INSTALL DeeDeeExperiment StartedAt: 2025-11-20 17:09:38 -0500 (Thu, 20 Nov 2025) EndedAt: 2025-11-20 17:10:14 -0500 (Thu, 20 Nov 2025) EllapsedTime: 35.3 seconds RetCode: 0 Status: OK