Package: DeeDeeExperiment Version: 1.0.0 Command: /Library/Frameworks/R.framework/Resources/bin/R CMD build --keep-empty-dirs --no-resave-data DeeDeeExperiment StartedAt: 2025-11-20 23:34:59 -0500 (Thu, 20 Nov 2025) EndedAt: 2025-11-20 23:36:12 -0500 (Thu, 20 Nov 2025) EllapsedTime: 72.6 seconds RetCode: 0 Status: OK PackageFile: DeeDeeExperiment_1.0.0.tar.gz PackageFileSize: 4.503 MiB