Package: DeconvoBuddies Version: 1.2.0 Command: /home/biocbuild/bbs-3.22-bioc/R/bin/R CMD build --keep-empty-dirs --no-resave-data --md5 DeconvoBuddies StartedAt: 2025-11-13 17:14:53 -0500 (Thu, 13 Nov 2025) EndedAt: 2025-11-13 17:27:43 -0500 (Thu, 13 Nov 2025) EllapsedTime: 769.6 seconds RetCode: 0 Status: OK PackageFile: DeconvoBuddies_1.2.0.tar.gz PackageFileSize: 5.915 MiB