Package: DeconvoBuddies Version: 1.2.0 Command: /Library/Frameworks/R.framework/Resources/bin/R CMD build --keep-empty-dirs --no-resave-data DeconvoBuddies StartedAt: 2025-11-10 16:08:22 -0500 (Mon, 10 Nov 2025) EndedAt: 2025-11-10 16:15:23 -0500 (Mon, 10 Nov 2025) EllapsedTime: 421.6 seconds RetCode: 0 Status: OK PackageFile: DeconvoBuddies_1.2.0.tar.gz PackageFileSize: 6.186 MiB