Package: DeconvoBuddies Version: 1.2.0 Command: rm -rf DeconvoBuddies.buildbin-libdir && mkdir DeconvoBuddies.buildbin-libdir && /Users/biocbuild/BBS/utils/build-universal.sh DeconvoBuddies_1.2.0.tar.gz /Library/Frameworks/R.framework/Resources/bin/R DeconvoBuddies.buildbin-libdir StartedAt: 2025-11-10 23:17:16 -0500 (Mon, 10 Nov 2025) EndedAt: 2025-11-10 23:17:39 -0500 (Mon, 10 Nov 2025) EllapsedTime: 22.4 seconds RetCode: 0 Status: OK PackageFile: DeconvoBuddies_1.2.0.tgz PackageFileSize: 6.233 MiB