Package: DeconRNASeq Version: 1.52.0 Command: /home/biocbuild/bbs-3.22-bioc/R/bin/R CMD INSTALL DeconRNASeq StartedAt: 2025-11-11 15:17:09 -0500 (Tue, 11 Nov 2025) EndedAt: 2025-11-11 15:17:16 -0500 (Tue, 11 Nov 2025) EllapsedTime: 6.8 seconds RetCode: 0 Status: OK