Package: DeconRNASeq Version: 1.52.0 Command: /Library/Frameworks/R.framework/Resources/bin/R CMD INSTALL DeconRNASeq StartedAt: 2025-11-03 15:19:25 -0500 (Mon, 03 Nov 2025) EndedAt: 2025-11-03 15:19:44 -0500 (Mon, 03 Nov 2025) EllapsedTime: 18.8 seconds RetCode: 0 Status: OK