Package: DeconRNASeq Version: 1.50.0 Command: /home/biocbuild/R/R/bin/R CMD INSTALL DeconRNASeq StartedAt: 2025-10-13 20:24:38 -0000 (Mon, 13 Oct 2025) EndedAt: 2025-10-13 20:24:48 -0000 (Mon, 13 Oct 2025) EllapsedTime: 9.3 seconds RetCode: 0 Status: OK