Package: DeconRNASeq Version: 1.50.0 Command: /home/biocbuild/R/R/bin/R CMD build --keep-empty-dirs --no-resave-data DeconRNASeq StartedAt: 2025-10-14 00:07:58 -0000 (Tue, 14 Oct 2025) EndedAt: 2025-10-14 00:08:11 -0000 (Tue, 14 Oct 2025) EllapsedTime: 13.0 seconds RetCode: 1 Status: ERROR PackageFile: None PackageFileSize: NA