Package: DeProViR Version: 1.4.0 Command: /home/biocbuild/bbs-3.21-bioc/R/bin/R CMD INSTALL DeProViR StartedAt: 2025-10-12 15:11:04 -0400 (Sun, 12 Oct 2025) EndedAt: 2025-10-12 15:11:20 -0400 (Sun, 12 Oct 2025) EllapsedTime: 16.4 seconds RetCode: 0 Status: OK