Package: DeProViR Version: 1.4.0 Command: /home/biocbuild/bbs-3.21-bioc/R/bin/R CMD build --keep-empty-dirs --no-resave-data DeProViR StartedAt: 2025-10-12 17:11:29 -0400 (Sun, 12 Oct 2025) EndedAt: 2025-10-12 17:11:54 -0400 (Sun, 12 Oct 2025) EllapsedTime: 25.0 seconds RetCode: 1 Status: ERROR PackageFile: None PackageFileSize: NA