Package: DeProViR Version: 1.4.0 Command: /Library/Frameworks/R.framework/Resources/bin/R CMD INSTALL DeProViR StartedAt: 2025-10-09 15:30:41 -0400 (Thu, 09 Oct 2025) EndedAt: 2025-10-09 15:31:06 -0400 (Thu, 09 Oct 2025) EllapsedTime: 24.9 seconds RetCode: 0 Status: OK