Package: DeProViR Version: 1.4.0 Command: /Library/Frameworks/R.framework/Resources/bin/R CMD build --keep-empty-dirs --no-resave-data DeProViR StartedAt: 2025-10-13 23:06:15 -0400 (Mon, 13 Oct 2025) EndedAt: 2025-10-13 23:06:44 -0400 (Mon, 13 Oct 2025) EllapsedTime: 28.7 seconds RetCode: 1 Status: ERROR PackageFile: None PackageFileSize: NA