Package: DeMixT Version: 1.26.0 Command: /home/biocbuild/bbs-3.22-bioc/R/bin/R CMD INSTALL DeMixT StartedAt: 2025-11-11 15:41:26 -0500 (Tue, 11 Nov 2025) EndedAt: 2025-11-11 15:42:28 -0500 (Tue, 11 Nov 2025) EllapsedTime: 62.6 seconds RetCode: 0 Status: OK