Package: DeMixT Version: 1.26.0 Command: /home/biocbuild/bbs-3.22-bioc/R/bin/R CMD build --keep-empty-dirs --no-resave-data --md5 DeMixT StartedAt: 2025-11-11 17:20:07 -0500 (Tue, 11 Nov 2025) EndedAt: 2025-11-11 17:21:28 -0500 (Tue, 11 Nov 2025) EllapsedTime: 81.0 seconds RetCode: 0 Status: OK PackageFile: DeMixT_1.26.0.tar.gz PackageFileSize: 6.06 MiB