Package: DeMixT Version: 1.26.0 Command: /Library/Frameworks/R.framework/Resources/bin/R CMD build --keep-empty-dirs --no-resave-data DeMixT StartedAt: 2025-11-10 16:10:31 -0500 (Mon, 10 Nov 2025) EndedAt: 2025-11-10 16:11:05 -0500 (Mon, 10 Nov 2025) EllapsedTime: 34.4 seconds RetCode: 0 Status: OK PackageFile: DeMixT_1.26.0.tar.gz PackageFileSize: 6.072 MiB