Package: DeMAND Version: 1.40.0 Command: /home/biocbuild/bbs-3.22-bioc/R/bin/R CMD INSTALL DeMAND StartedAt: 2025-11-11 15:08:35 -0500 (Tue, 11 Nov 2025) EndedAt: 2025-11-11 15:08:45 -0500 (Tue, 11 Nov 2025) EllapsedTime: 9.8 seconds RetCode: 0 Status: OK