Package: DeMAND Version: 1.40.0 Command: /home/biocbuild/bbs-3.22-bioc/R/bin/R CMD build --keep-empty-dirs --no-resave-data --md5 DeMAND StartedAt: 2025-11-11 17:20:01 -0500 (Tue, 11 Nov 2025) EndedAt: 2025-11-11 17:20:07 -0500 (Tue, 11 Nov 2025) EllapsedTime: 6.0 seconds RetCode: 0 Status: OK PackageFile: DeMAND_1.40.0.tar.gz PackageFileSize: 318.3 KiB