Package: DeMAND Version: 1.40.0 Command: /Library/Frameworks/R.framework/Resources/bin/R CMD INSTALL DeMAND StartedAt: 2025-11-10 15:02:35 -0500 (Mon, 10 Nov 2025) EndedAt: 2025-11-10 15:02:40 -0500 (Mon, 10 Nov 2025) EllapsedTime: 4.0 seconds RetCode: 0 Status: OK