Package: DeMAND Version: 1.40.0 Command: /Library/Frameworks/R.framework/Resources/bin/R CMD build --keep-empty-dirs --no-resave-data DeMAND StartedAt: 2025-11-10 16:10:29 -0500 (Mon, 10 Nov 2025) EndedAt: 2025-11-10 16:10:33 -0500 (Mon, 10 Nov 2025) EllapsedTime: 4.1 seconds RetCode: 0 Status: OK PackageFile: DeMAND_1.40.0.tar.gz PackageFileSize: 317.2 KiB