Package: DeMAND Version: 1.40.0 Command: rm -rf DeMAND.buildbin-libdir && mkdir DeMAND.buildbin-libdir && /Users/biocbuild/BBS/utils/build-universal.sh DeMAND_1.40.0.tar.gz /Library/Frameworks/R.framework/Resources/bin/R DeMAND.buildbin-libdir StartedAt: 2025-11-10 23:17:39 -0500 (Mon, 10 Nov 2025) EndedAt: 2025-11-10 23:17:41 -0500 (Mon, 10 Nov 2025) EllapsedTime: 2.0 seconds RetCode: 0 Status: OK PackageFile: DeMAND_1.40.0.tgz PackageFileSize: 351.3 KiB