Package: DaMiRseq Version: 2.22.0 Command: /home/biocbuild/bbs-3.22-bioc/R/bin/R CMD check --install=check:DaMiRseq.install-out.txt --library=/home/biocbuild/bbs-3.22-bioc/R/site-library --timings DaMiRseq_2.22.0.tar.gz StartedAt: 2025-11-11 22:48:58 -0500 (Tue, 11 Nov 2025) EndedAt: 2025-11-11 23:03:05 -0500 (Tue, 11 Nov 2025) EllapsedTime: 846.7 seconds RetCode: 0 Status: OK CheckDir: DaMiRseq.Rcheck Warnings: 0