Package: DaMiRseq Version: 2.22.0 Command: /home/biocbuild/bbs-3.22-bioc/R/bin/R CMD build --keep-empty-dirs --no-resave-data --md5 DaMiRseq StartedAt: 2025-11-11 17:14:16 -0500 (Tue, 11 Nov 2025) EndedAt: 2025-11-11 17:21:50 -0500 (Tue, 11 Nov 2025) EllapsedTime: 454.4 seconds RetCode: 0 Status: OK PackageFile: DaMiRseq_2.22.0.tar.gz PackageFileSize: 4.221 MiB