Package: DaMiRseq Version: 2.20.0 Command: /home/biocbuild/bbs-3.21-bioc/R/bin/R CMD build --keep-empty-dirs --no-resave-data DaMiRseq StartedAt: 2025-10-15 17:03:30 -0400 (Wed, 15 Oct 2025) EndedAt: 2025-10-15 17:11:09 -0400 (Wed, 15 Oct 2025) EllapsedTime: 459.4 seconds RetCode: 0 Status: OK PackageFile: DaMiRseq_2.20.0.tar.gz PackageFileSize: 4.219 MiB