Package: DaMiRseq Version: 2.20.0 Command: rm -rf DaMiRseq.buildbin-libdir && mkdir DaMiRseq.buildbin-libdir && /Users/biocbuild/BBS/utils/build-universal.sh DaMiRseq_2.20.0.tar.gz /Library/Frameworks/R.framework/Resources/bin/R DaMiRseq.buildbin-libdir StartedAt: 2025-04-21 22:32:03 -0400 (Mon, 21 Apr 2025) EndedAt: 2025-04-21 22:32:30 -0400 (Mon, 21 Apr 2025) EllapsedTime: 26.6 seconds RetCode: 0 Status: OK PackageFile: DaMiRseq_2.20.0.tgz PackageFileSize: 4.377 MiB