Package: DaMiRseq Version: 2.20.0 Command: /Library/Frameworks/R.framework/Resources/bin/R CMD INSTALL DaMiRseq StartedAt: 2025-10-13 18:02:28 -0400 (Mon, 13 Oct 2025) EndedAt: 2025-10-13 18:03:37 -0400 (Mon, 13 Oct 2025) EllapsedTime: 69.2 seconds RetCode: 0 Status: OK