Package: DaMiRseq Version: 2.20.0 Command: /Library/Frameworks/R.framework/Resources/bin/R CMD build --keep-empty-dirs --no-resave-data DaMiRseq StartedAt: 2025-10-13 22:32:22 -0400 (Mon, 13 Oct 2025) EndedAt: 2025-10-13 22:41:26 -0400 (Mon, 13 Oct 2025) EllapsedTime: 543.8 seconds RetCode: 0 Status: OK PackageFile: DaMiRseq_2.20.0.tar.gz PackageFileSize: 4.219 MiB