Package: DaMiRseq Version: 2.20.0 Command: rm -rf DaMiRseq.buildbin-libdir && mkdir DaMiRseq.buildbin-libdir && /Users/biocbuild/BBS/utils/build-universal.sh DaMiRseq_2.20.0.tar.gz /Library/Frameworks/R.framework/Resources/bin/R DaMiRseq.buildbin-libdir StartedAt: 2025-10-15 18:08:07 -0400 (Wed, 15 Oct 2025) EndedAt: 2025-10-15 18:09:24 -0400 (Wed, 15 Oct 2025) EllapsedTime: 77.1 seconds RetCode: 0 Status: OK PackageFile: DaMiRseq_2.20.0.tgz PackageFileSize: 4.378 MiB