Package: DTA Version: 2.56.0 Command: /home/biocbuild/bbs-3.22-bioc/R/bin/R CMD INSTALL DTA StartedAt: 2025-11-11 15:07:34 -0500 (Tue, 11 Nov 2025) EndedAt: 2025-11-11 15:07:56 -0500 (Tue, 11 Nov 2025) EllapsedTime: 21.8 seconds RetCode: 0 Status: OK