Package: DTA Version: 2.56.0 Command: /home/biocbuild/bbs-3.22-bioc/R/bin/R CMD build --keep-empty-dirs --no-resave-data --md5 DTA StartedAt: 2025-11-11 17:30:04 -0500 (Tue, 11 Nov 2025) EndedAt: 2025-11-11 17:34:53 -0500 (Tue, 11 Nov 2025) EllapsedTime: 288.2 seconds RetCode: 0 Status: OK PackageFile: DTA_2.56.0.tar.gz PackageFileSize: 11.19 MiB