Package: DTA Version: 2.56.0 Command: /Library/Frameworks/R.framework/Resources/bin/R CMD INSTALL DTA StartedAt: 2025-11-10 15:02:02 -0500 (Mon, 10 Nov 2025) EndedAt: 2025-11-10 15:02:13 -0500 (Mon, 10 Nov 2025) EllapsedTime: 10.9 seconds RetCode: 0 Status: OK