Package: DTA Version: 2.56.0 Command: /Library/Frameworks/R.framework/Resources/bin/R CMD build --keep-empty-dirs --no-resave-data DTA StartedAt: 2025-11-10 16:16:48 -0500 (Mon, 10 Nov 2025) EndedAt: 2025-11-10 16:18:41 -0500 (Mon, 10 Nov 2025) EllapsedTime: 113.2 seconds RetCode: 0 Status: OK PackageFile: DTA_2.56.0.tar.gz PackageFileSize: 9.037 MiB