Package: DSS Version: 2.58.0 Command: /home/biocbuild/bbs-3.22-bioc/R/bin/R CMD check --install=check:DSS.install-out.txt --library=/home/biocbuild/bbs-3.22-bioc/R/site-library --timings DSS_2.58.0.tar.gz StartedAt: 2025-11-14 23:22:21 -0500 (Fri, 14 Nov 2025) EndedAt: 2025-11-14 23:27:16 -0500 (Fri, 14 Nov 2025) EllapsedTime: 295.3 seconds RetCode: 0 Status: WARNINGS CheckDir: DSS.Rcheck Warnings: 1