Package: DSS Version: 2.58.0 Command: /Library/Frameworks/R.framework/Resources/bin/R CMD INSTALL DSS StartedAt: 2025-11-03 15:36:51 -0500 (Mon, 03 Nov 2025) EndedAt: 2025-11-03 15:37:48 -0500 (Mon, 03 Nov 2025) EllapsedTime: 56.8 seconds RetCode: 0 Status: OK