Package: DSS Version: 2.58.0 Command: rm -rf DSS.buildbin-libdir && mkdir DSS.buildbin-libdir && /Users/biocbuild/BBS/utils/build-universal.sh DSS_2.58.0.tar.gz /Library/Frameworks/R.framework/Resources/bin/R DSS.buildbin-libdir StartedAt: 2025-11-04 01:38:10 -0500 (Tue, 04 Nov 2025) EndedAt: 2025-11-04 01:39:11 -0500 (Tue, 04 Nov 2025) EllapsedTime: 61.1 seconds RetCode: 0 Status: OK PackageFile: DSS_2.58.0.tgz PackageFileSize: 1.6 MiB