Package: DSS Version: 2.56.0 Command: /home/biocbuild/R/R/bin/R CMD INSTALL DSS StartedAt: 2025-10-13 20:52:28 -0000 (Mon, 13 Oct 2025) EndedAt: 2025-10-13 20:53:27 -0000 (Mon, 13 Oct 2025) EllapsedTime: 58.7 seconds RetCode: 0 Status: OK