Package: DSS Version: 2.56.0 Command: /home/biocbuild/R/R/bin/R CMD build --keep-empty-dirs --no-resave-data DSS StartedAt: 2025-10-14 00:30:08 -0000 (Tue, 14 Oct 2025) EndedAt: 2025-10-14 00:31:36 -0000 (Tue, 14 Oct 2025) EllapsedTime: 88.0 seconds RetCode: 0 Status: OK PackageFile: DSS_2.56.0.tar.gz PackageFileSize: 2.093 MiB