Package: DSS Version: 2.58.0 Maintainer: Hao Wu , Hao Feng MaintainerEmail: hxf155 at case.edu git_url: https://git.bioconductor.org/packages/DSS git_branch: RELEASE_3_22 git_last_commit: 11b2949 git_last_commit_date: 2025-10-29 10:11:20 -0400 (Wed, 29 Oct 2025)