Package: DRIMSeq Version: 1.38.0 Command: /home/biocbuild/R/R/bin/R CMD INSTALL DRIMSeq StartedAt: 2025-11-10 21:41:35 -0000 (Mon, 10 Nov 2025) EndedAt: 2025-11-10 21:41:53 -0000 (Mon, 10 Nov 2025) EllapsedTime: 17.6 seconds RetCode: 0 Status: OK