Package: DRIMSeq Version: 1.38.0 Command: /home/biocbuild/R/R/bin/R CMD check --install=check:DRIMSeq.install-out.txt --library=/home/biocbuild/R/R/site-library --no-vignettes --timings DRIMSeq_1.38.0.tar.gz StartedAt: 2025-11-14 09:02:10 -0000 (Fri, 14 Nov 2025) EndedAt: 2025-11-14 09:07:06 -0000 (Fri, 14 Nov 2025) EllapsedTime: 296.3 seconds RetCode: 0 Status: WARNINGS CheckDir: DRIMSeq.Rcheck Warnings: 1