Package: DRIMSeq Version: 1.38.0 Command: /home/biocbuild/R/R/bin/R CMD build --keep-empty-dirs --no-resave-data DRIMSeq StartedAt: 2025-11-11 01:18:59 -0000 (Tue, 11 Nov 2025) EndedAt: 2025-11-11 01:22:41 -0000 (Tue, 11 Nov 2025) EllapsedTime: 222.1 seconds RetCode: 0 Status: OK PackageFile: DRIMSeq_1.38.0.tar.gz PackageFileSize: 473.3 KiB