Package: DRIMSeq Version: 1.38.0 Command: /home/biocbuild/bbs-3.22-bioc/R/bin/R CMD check --install=check:DRIMSeq.install-out.txt --library=/home/biocbuild/bbs-3.22-bioc/R/site-library --timings DRIMSeq_1.38.0.tar.gz StartedAt: 2025-11-11 23:18:29 -0500 (Tue, 11 Nov 2025) EndedAt: 2025-11-11 23:24:01 -0500 (Tue, 11 Nov 2025) EllapsedTime: 332.3 seconds RetCode: 0 Status: WARNINGS CheckDir: DRIMSeq.Rcheck Warnings: 1