Package: DRIMSeq Version: 1.36.0 Command: /Library/Frameworks/R.framework/Resources/bin/R CMD INSTALL DRIMSeq StartedAt: 2025-09-25 15:59:15 -0400 (Thu, 25 Sep 2025) EndedAt: 2025-09-25 15:59:46 -0400 (Thu, 25 Sep 2025) EllapsedTime: 30.9 seconds RetCode: 0 Status: OK