Package: DRIMSeq Version: 1.36.0 Command: /Library/Frameworks/R.framework/Resources/bin/R CMD build --keep-empty-dirs --no-resave-data DRIMSeq StartedAt: 2025-09-25 18:44:09 -0400 (Thu, 25 Sep 2025) EndedAt: 2025-09-25 18:49:58 -0400 (Thu, 25 Sep 2025) EllapsedTime: 349.1 seconds RetCode: 0 Status: OK PackageFile: DRIMSeq_1.36.0.tar.gz PackageFileSize: 480.2 KiB