Package: DRIMSeq Version: 1.38.0 Command: /Library/Frameworks/R.framework/Resources/bin/R CMD check --install=check:DRIMSeq.install-out.txt --library=/Library/Frameworks/R.framework/Resources/library --no-vignettes --timings DRIMSeq_1.38.0.tar.gz StartedAt: 2025-10-30 19:33:18 -0400 (Thu, 30 Oct 2025) EndedAt: 2025-10-30 19:34:35 -0400 (Thu, 30 Oct 2025) EllapsedTime: 76.9 seconds RetCode: 0 Status: WARNINGS CheckDir: DRIMSeq.Rcheck Warnings: 1