Package: DRIMSeq Version: 1.36.0 Command: rm -rf DRIMSeq.buildbin-libdir && mkdir DRIMSeq.buildbin-libdir && /Users/biocbuild/BBS/utils/build-universal.sh DRIMSeq_1.36.0.tar.gz /Library/Frameworks/R.framework/Resources/bin/R DRIMSeq.buildbin-libdir StartedAt: 2025-09-27 17:18:26 -0400 (Sat, 27 Sep 2025) EndedAt: 2025-09-27 17:18:45 -0400 (Sat, 27 Sep 2025) EllapsedTime: 19.0 seconds RetCode: 0 Status: OK PackageFile: DRIMSeq_1.36.0.tgz PackageFileSize: 784.8 KiB