Package: DOtools Version: 1.0.0 Command: /home/biocbuild/bbs-3.22-bioc/R/bin/R CMD check --install=check:DOtools.install-out.txt --library=/home/biocbuild/bbs-3.22-bioc/R/site-library --timings DOtools_1.0.0.tar.gz StartedAt: 2025-11-14 23:19:43 -0500 (Fri, 14 Nov 2025) EndedAt: 2025-11-14 23:31:34 -0500 (Fri, 14 Nov 2025) EllapsedTime: 711.7 seconds RetCode: 1 Status: ERROR CheckDir: DOtools.Rcheck Warnings: NA