Package: DOtools Version: 1.0.0 Command: /home/biocbuild/bbs-3.22-bioc/R/bin/R CMD build --keep-empty-dirs --no-resave-data --md5 DOtools StartedAt: 2025-11-04 17:24:02 -0500 (Tue, 04 Nov 2025) EndedAt: 2025-11-04 17:28:03 -0500 (Tue, 04 Nov 2025) EllapsedTime: 241.2 seconds RetCode: 0 Status: OK PackageFile: DOtools_1.0.0.tar.gz PackageFileSize: 4.763 MiB