Package: DOtools Version: 1.0.0 Command: /Library/Frameworks/R.framework/Resources/bin/R CMD build --keep-empty-dirs --no-resave-data DOtools StartedAt: 2025-11-03 16:52:06 -0500 (Mon, 03 Nov 2025) EndedAt: 2025-11-03 16:57:17 -0500 (Mon, 03 Nov 2025) EllapsedTime: 311.2 seconds RetCode: 1 Status: ERROR PackageFile: None PackageFileSize: NA